BEGIN:VCALENDAR
VERSION:2.0
PRODID:-//LEO Network//Training Calendar//EN
BEGIN:VEVENT
UID:event-8637@leo-network.com
DTSTAMP:20260420T020828Z
DTSTART:20250817T150000Z
DTEND:20250818T000000Z
SUMMARY:New Jersey Training Workshop (NJ Title 2C)
DESCRIPTION:Law Enforcement Training
Hosted by: J Harris Academy of Police Training

View event details:
https://www.leo-network.com/event/new-jersey-training-workshop-nj-title-2c-galloway-nj-8637/
LOCATION:Galloway, NJ
URL:https://www.leo-network.com/event/new-jersey-training-workshop-nj-title-2c-galloway-nj-8637/
END:VEVENT
END:VCALENDAR
