BEGIN:VCALENDAR
VERSION:2.0
PRODID:-//LEO Network//Training Calendar//EN
BEGIN:VEVENT
UID:event-8644@leo-network.com
DTSTAMP:20260420T054035Z
DTSTART:20251119T160000Z
DTEND:20251121T010000Z
SUMMARY:Force Encounters: Investigation Fundamentals, Decision-Making, and Human Performance
DESCRIPTION:Law Enforcement Training
Hosted by: Force Science

View event details:
https://www.leo-network.com/event/force-encounters-investigation-fundamentals-decision-making-and-human-performance-hayden-id-8644/
LOCATION:Hayden, ID
URL:https://www.leo-network.com/event/force-encounters-investigation-fundamentals-decision-making-and-human-performance-hayden-id-8644/
END:VEVENT
END:VCALENDAR
