BEGIN:VCALENDAR
VERSION:2.0
PRODID:-//LEO Network//Training Calendar//EN
BEGIN:VEVENT
UID:event-8649@leo-network.com
DTSTAMP:20260422T090437Z
DTSTART:20260127T160000Z
DTEND:20260130T010000Z
SUMMARY:Advanced Instructional Methods Course
DESCRIPTION:Law Enforcement Training
Hosted by: Force Science

View event details:
https://www.leo-network.com/event/advanced-instructional-methods-course-ontario-ca-8649/
LOCATION:Ontario, CA
URL:https://www.leo-network.com/event/advanced-instructional-methods-course-ontario-ca-8649/
END:VEVENT
END:VCALENDAR
