BEGIN:VCALENDAR
VERSION:2.0
PRODID:-//LEO Network//Training Calendar//EN
BEGIN:VEVENT
UID:event-8729@leo-network.com
DTSTAMP:20260421T135619Z
DTSTART:20250905T150000Z
DTEND:20250906T000000Z
SUMMARY:Use of Force
DESCRIPTION:Law Enforcement Training
Hosted by: J Harris Academy of Police Training

View event details:
https://www.leo-network.com/event/use-of-force-miami-fl-8729/
LOCATION:Miami, FL
URL:https://www.leo-network.com/event/use-of-force-miami-fl-8729/
END:VEVENT
END:VCALENDAR
