BEGIN:VCALENDAR
VERSION:2.0
PRODID:-//LEO Network//Training Calendar//EN
BEGIN:VEVENT
UID:event-8801@leo-network.com
DTSTAMP:20260420T014122Z
DTSTART:20251023T150000Z
DTEND:20251024T000000Z
SUMMARY:Elicitation Methods Live Webinar
DESCRIPTION:Law Enforcement Training
Hosted by: ONEFACE LLC

View event details:
https://www.leo-network.com/event/elicitation-methods-live-webinar-online-8801/
LOCATION:NA, OL
URL:https://www.leo-network.com/event/elicitation-methods-live-webinar-online-8801/
END:VEVENT
END:VCALENDAR
