BEGIN:VCALENDAR
VERSION:2.0
PRODID:-//LEO Network//Training Calendar//EN
BEGIN:VEVENT
UID:event-8822@leo-network.com
DTSTAMP:20260422T161450Z
DTSTART:20251003T150000Z
DTEND:20251007T000000Z
SUMMARY:Understanding the Mexican Cartels and Narco Cultura
DESCRIPTION:Law Enforcement Training
Hosted by: The Vigilance Project

View event details:
https://www.leo-network.com/event/understanding-the-mexican-cartels-and-narco-cultura-st-charles-mo-8822/
LOCATION:St. Charles, MO
URL:https://www.leo-network.com/event/understanding-the-mexican-cartels-and-narco-cultura-st-charles-mo-8822/
END:VEVENT
END:VCALENDAR
