BEGIN:VCALENDAR
VERSION:2.0
PRODID:-//LEO Network//Training Calendar//EN
BEGIN:VEVENT
UID:event-891@leo-network.com
DTSTAMP:20260422T172944Z
DTSTART:20230525T150000Z
DTEND:20230527T000000Z
SUMMARY:Proactive Patrol Officer Development
DESCRIPTION:Law Enforcement Training
Hosted by: Training Provider

View event details:
https://www.leo-network.com/event/proactive-patrol-officer-development-tahlequah-ok-891/
LOCATION:Tahlequah, OK
URL:https://www.leo-network.com/event/proactive-patrol-officer-development-tahlequah-ok-891/
END:VEVENT
END:VCALENDAR
