BEGIN:VCALENDAR
VERSION:2.0
PRODID:-//LEO Network//Training Calendar//EN
BEGIN:VEVENT
UID:event-8922@leo-network.com
DTSTAMP:20260419T223124Z
DTSTART:20251119T160000Z
DTEND:20251121T010000Z
SUMMARY:Behavioral Analysis: Six Channel System
DESCRIPTION:Law Enforcement Training
Hosted by: ONEFACE LLC

View event details:
https://www.leo-network.com/event/behavioral-analysis-six-channel-system-online-8922/
LOCATION:NA, OL
URL:https://www.leo-network.com/event/behavioral-analysis-six-channel-system-online-8922/
END:VEVENT
END:VCALENDAR
