BEGIN:VCALENDAR
VERSION:2.0
PRODID:-//LEO Network//Training Calendar//EN
BEGIN:VEVENT
UID:event-8979@leo-network.com
DTSTAMP:20260422T220248Z
DTSTART:20260126T160000Z
DTEND:20260130T010000Z
SUMMARY:De-escalation: Train-the-Trainer
DESCRIPTION:Law Enforcement Training
Hosted by: National De-escalation Training Center

View event details:
https://www.leo-network.com/event/de-escalation-train-the-trainer-edmond-ok-8979/
LOCATION:Edmond, OK
URL:https://www.leo-network.com/event/de-escalation-train-the-trainer-edmond-ok-8979/
END:VEVENT
END:VCALENDAR
