BEGIN:VCALENDAR
VERSION:2.0
PRODID:-//LEO Network//Training Calendar//EN
BEGIN:VEVENT
UID:event-8984@leo-network.com
DTSTAMP:20260422T172456Z
DTSTART:20260210T160000Z
DTEND:20260212T010000Z
SUMMARY:De-escalation: Principles & Practice
DESCRIPTION:Law Enforcement Training
Hosted by: National De-escalation Training Center

View event details:
https://www.leo-network.com/event/de-escalation-principles-practice-tahlequah-ok-8984/
LOCATION:Tahlequah, OK
URL:https://www.leo-network.com/event/de-escalation-principles-practice-tahlequah-ok-8984/
END:VEVENT
END:VCALENDAR
