BEGIN:VCALENDAR
VERSION:2.0
PRODID:-//LEO Network//Training Calendar//EN
BEGIN:VEVENT
UID:event-908@leo-network.com
DTSTAMP:20260420T093112Z
DTSTART:20230626T150000Z
DTEND:20230627T000000Z
SUMMARY:Real World De-Escalation
DESCRIPTION:Law Enforcement Training
Hosted by: Blue to Gold Training

View event details:
https://www.leo-network.com/event/real-world-de-escalation-strongsville-oh-908/
LOCATION:Strongsville, OH
URL:https://www.leo-network.com/event/real-world-de-escalation-strongsville-oh-908/
END:VEVENT
END:VCALENDAR
