BEGIN:VCALENDAR
VERSION:2.0
PRODID:-//LEO Network//Training Calendar//EN
BEGIN:VEVENT
UID:event-909@leo-network.com
DTSTAMP:20260420T092528Z
DTSTART:20230626T150000Z
DTEND:20230627T000000Z
SUMMARY:Duty to Intervene
DESCRIPTION:Law Enforcement Training
Hosted by: Blue to Gold Training

View event details:
https://www.leo-network.com/event/duty-to-intervene-strongsville-oh-909/
LOCATION:Strongsville, OH
URL:https://www.leo-network.com/event/duty-to-intervene-strongsville-oh-909/
END:VEVENT
END:VCALENDAR
