BEGIN:VCALENDAR
VERSION:2.0
PRODID:-//LEO Network//Training Calendar//EN
BEGIN:VEVENT
UID:event-910@leo-network.com
DTSTAMP:20260420T092230Z
DTSTART:20230627T150000Z
DTEND:20230628T000000Z
SUMMARY:Bulletproof Report Writing
DESCRIPTION:Law Enforcement Training
Hosted by: Blue to Gold Training

View event details:
https://www.leo-network.com/event/bulletproof-report-writing-strongsville-oh-910/
LOCATION:Strongsville, OH
URL:https://www.leo-network.com/event/bulletproof-report-writing-strongsville-oh-910/
END:VEVENT
END:VCALENDAR
