BEGIN:VCALENDAR
VERSION:2.0
PRODID:-//LEO Network//Training Calendar//EN
BEGIN:VEVENT
UID:event-9119@leo-network.com
DTSTAMP:20260422T115532Z
DTSTART:20251118T160000Z
DTEND:20251119T010000Z
SUMMARY:IP, App and Internet Investigations for Police
DESCRIPTION:Law Enforcement Training
Hosted by: Badge Apps LLC

View event details:
https://www.leo-network.com/event/ip-app-and-internet-investigations-for-police-springfield-mo-9119/
LOCATION:Springfield, MO
URL:https://www.leo-network.com/event/ip-app-and-internet-investigations-for-police-springfield-mo-9119/
END:VEVENT
END:VCALENDAR
