BEGIN:VCALENDAR
VERSION:2.0
PRODID:-//LEO Network//Training Calendar//EN
BEGIN:VEVENT
UID:event-9135@leo-network.com
DTSTAMP:20260421T065216Z
DTSTART:20271219T160000Z
DTEND:20271220T010000Z
SUMMARY:B&B Interdiction Tactics
DESCRIPTION:Law Enforcement Training
Hosted by: Dynamic Police Training

View event details:
https://www.leo-network.com/event/b-b-interdiction-tactics-aurora-co-9135/
LOCATION:Aurora, CO
URL:https://www.leo-network.com/event/b-b-interdiction-tactics-aurora-co-9135/
END:VEVENT
END:VCALENDAR
