BEGIN:VCALENDAR
VERSION:2.0
PRODID:-//LEO Network//Training Calendar//EN
BEGIN:VEVENT
UID:event-9137@leo-network.com
DTSTAMP:20260419T210228Z
DTSTART:20251203T160000Z
DTEND:20251204T010000Z
SUMMARY:Body Language for Law Enforcement
DESCRIPTION:Law Enforcement Training
Hosted by: ONEFACE LLC

View event details:
https://www.leo-network.com/event/body-language-for-law-enforcement-evansville-in-9137/
LOCATION:Evansville, IN
URL:https://www.leo-network.com/event/body-language-for-law-enforcement-evansville-in-9137/
END:VEVENT
END:VCALENDAR
