BEGIN:VCALENDAR
VERSION:2.0
PRODID:-//LEO Network//Training Calendar//EN
BEGIN:VEVENT
UID:event-9138@leo-network.com
DTSTAMP:20260419T210228Z
DTSTART:20251202T160000Z
DTEND:20251203T010000Z
SUMMARY:Recognizing Pre-Attack Indicators
DESCRIPTION:Law Enforcement Training
Hosted by: ONEFACE LLC

View event details:
https://www.leo-network.com/event/recognizing-pre-attack-indicators-evansville-in-9138/
LOCATION:Evansville, IN
URL:https://www.leo-network.com/event/recognizing-pre-attack-indicators-evansville-in-9138/
END:VEVENT
END:VCALENDAR
