BEGIN:VCALENDAR
VERSION:2.0
PRODID:-//LEO Network//Training Calendar//EN
BEGIN:VEVENT
UID:event-9139@leo-network.com
DTSTAMP:20260419T191456Z
DTSTART:20251204T160000Z
DTEND:20251205T010000Z
SUMMARY:Recognizing Pre-Attack Indicators
DESCRIPTION:Law Enforcement Training
Hosted by: ONEFACE LLC

View event details:
https://www.leo-network.com/event/recognizing-pre-attack-indicators-evansville-in-9139/
LOCATION:Evansville, IN
URL:https://www.leo-network.com/event/recognizing-pre-attack-indicators-evansville-in-9139/
END:VEVENT
END:VCALENDAR
