BEGIN:VCALENDAR
VERSION:2.0
PRODID:-//LEO Network//Training Calendar//EN
BEGIN:VEVENT
UID:event-9214@leo-network.com
DTSTAMP:20260422T102220Z
DTSTART:20260122T160000Z
DTEND:20260123T010000Z
SUMMARY:Agency In-Service
DESCRIPTION:Law Enforcement Training
Hosted by: Bloodgood Law Enforcement Training Group 

View event details:
https://www.leo-network.com/event/agency-in-service-wayne-nj-9214/
LOCATION:Wayne, NJ
URL:https://www.leo-network.com/event/agency-in-service-wayne-nj-9214/
END:VEVENT
END:VCALENDAR
