BEGIN:VCALENDAR
VERSION:2.0
PRODID:-//LEO Network//Training Calendar//EN
BEGIN:VEVENT
UID:event-9266@leo-network.com
DTSTAMP:20260421T083835Z
DTSTART:20260304T160000Z
DTEND:20260306T010000Z
SUMMARY:Scenarios and Tactics for the Field Training Officer
DESCRIPTION:Law Enforcement Training
Hosted by: Calibre Press

View event details:
https://www.leo-network.com/event/scenarios-and-tactics-for-the-field-training-officer-brea-ca-9266/
LOCATION:Brea, CA
URL:https://www.leo-network.com/event/scenarios-and-tactics-for-the-field-training-officer-brea-ca-9266/
END:VEVENT
END:VCALENDAR
