BEGIN:VCALENDAR
VERSION:2.0
PRODID:-//LEO Network//Training Calendar//EN
BEGIN:VEVENT
UID:event-9491@leo-network.com
DTSTAMP:20260419T150315Z
DTSTART:20260107T160000Z
DTEND:20260108T010000Z
SUMMARY:Interactional Style in Action
DESCRIPTION:Law Enforcement Training
Hosted by: ONEFACE LLC

View event details:
https://www.leo-network.com/event/interactional-style-in-action-online-9491/
LOCATION:NA, OL
URL:https://www.leo-network.com/event/interactional-style-in-action-online-9491/
END:VEVENT
END:VCALENDAR
