BEGIN:VCALENDAR
VERSION:2.0
PRODID:-//LEO Network//Training Calendar//EN
BEGIN:VEVENT
UID:event-9545@leo-network.com
DTSTAMP:20260421T000803Z
DTSTART:20260216T160000Z
DTEND:20260220T010000Z
SUMMARY:Death and Homicide Investigation
DESCRIPTION:Law Enforcement Training
Hosted by: Public Agency Training Council

View event details:
https://www.leo-network.com/event/death-and-homicide-investigation-summerville-sc-9545/
LOCATION:Summerville, SC
URL:https://www.leo-network.com/event/death-and-homicide-investigation-summerville-sc-9545/
END:VEVENT
END:VCALENDAR
