BEGIN:VCALENDAR
VERSION:2.0
PRODID:-//LEO Network//Training Calendar//EN
BEGIN:VEVENT
UID:event-957@leo-network.com
DTSTAMP:20260419T150254Z
DTSTART:20230307T160000Z
DTEND:20230308T010000Z
SUMMARY:Smugglers, Inc.® 2.0
DESCRIPTION:Law Enforcement Training
Hosted by: Triple I Solutions

View event details:
https://www.leo-network.com/event/smugglers-inc-2-0-east-windsor-nj-957/
LOCATION:East Windsor, NJ
URL:https://www.leo-network.com/event/smugglers-inc-2-0-east-windsor-nj-957/
END:VEVENT
END:VCALENDAR
