BEGIN:VCALENDAR
VERSION:2.0
PRODID:-//LEO Network//Training Calendar//EN
BEGIN:VEVENT
UID:event-958@leo-network.com
DTSTAMP:20260419T150451Z
DTSTART:20230309T160000Z
DTEND:20230310T010000Z
SUMMARY:Smugglers, Inc.® 2.0
DESCRIPTION:Law Enforcement Training
Hosted by: Triple I Solutions

View event details:
https://www.leo-network.com/event/smugglers-inc-2-0-paramus-nj-958/
LOCATION:Paramus, NJ
URL:https://www.leo-network.com/event/smugglers-inc-2-0-paramus-nj-958/
END:VEVENT
END:VCALENDAR
