BEGIN:VCALENDAR
VERSION:2.0
PRODID:-//LEO Network//Training Calendar//EN
BEGIN:VEVENT
UID:event-959@leo-network.com
DTSTAMP:20260419T161742Z
DTSTART:20230315T150000Z
DTEND:20230316T000000Z
SUMMARY:Smugglers, Inc.® 2.0
DESCRIPTION:Law Enforcement Training
Hosted by: Triple I Solutions

View event details:
https://www.leo-network.com/event/smugglers-inc-2-0-gulfport-ms-959/
LOCATION:Gulfport, MS
URL:https://www.leo-network.com/event/smugglers-inc-2-0-gulfport-ms-959/
END:VEVENT
END:VCALENDAR
