BEGIN:VCALENDAR
VERSION:2.0
PRODID:-//LEO Network//Training Calendar//EN
BEGIN:VEVENT
UID:event-962@leo-network.com
DTSTAMP:20260419T161726Z
DTSTART:20230322T150000Z
DTEND:20230323T000000Z
SUMMARY:Smugglers, Inc.® 2.0
DESCRIPTION:Law Enforcement Training
Hosted by: Triple I Solutions

View event details:
https://www.leo-network.com/event/smugglers-inc-2-0-canton-tx-962/
LOCATION:Canton, TX
URL:https://www.leo-network.com/event/smugglers-inc-2-0-canton-tx-962/
END:VEVENT
END:VCALENDAR
