BEGIN:VCALENDAR
VERSION:2.0
PRODID:-//LEO Network//Training Calendar//EN
BEGIN:VEVENT
UID:event-9624@leo-network.com
DTSTAMP:20260422T155418Z
DTSTART:20260211T160000Z
DTEND:20260213T010000Z
SUMMARY:Trauma Informed Response to Sexual Assault and Domestic Violence
DESCRIPTION:Law Enforcement Training
Hosted by: Public Agency Training Council

View event details:
https://www.leo-network.com/event/trauma-informed-response-to-sexual-assault-and-domestic-violence-norman-ok-9624/
LOCATION:Norman, OK
URL:https://www.leo-network.com/event/trauma-informed-response-to-sexual-assault-and-domestic-violence-norman-ok-9624/
END:VEVENT
END:VCALENDAR
