BEGIN:VCALENDAR
VERSION:2.0
PRODID:-//LEO Network//Training Calendar//EN
BEGIN:VEVENT
UID:event-9638@leo-network.com
DTSTAMP:20260421T205837Z
DTSTART:20260126T160000Z
DTEND:20260130T010000Z
SUMMARY:Hostage Negotiations, Phase III- Cambria
DESCRIPTION:Law Enforcement Training
Hosted by: Public Agency Training Council

View event details:
https://www.leo-network.com/event/hostage-negotiations-phase-iii-cambria-stamford-ct-9638/
LOCATION:Stamford, CT
URL:https://www.leo-network.com/event/hostage-negotiations-phase-iii-cambria-stamford-ct-9638/
END:VEVENT
END:VCALENDAR
