BEGIN:VCALENDAR
VERSION:2.0
PRODID:-//LEO Network//Training Calendar//EN
BEGIN:VEVENT
UID:event-964@leo-network.com
DTSTAMP:20260422T115500Z
DTSTART:20230329T150000Z
DTEND:20230401T000000Z
SUMMARY:Smugglers, Inc.® 2.0
DESCRIPTION:Law Enforcement Training
Hosted by: Triple I Solutions

View event details:
https://www.leo-network.com/event/smugglers-inc-2-0-liberal-ks-964/
LOCATION:Liberal, KS
URL:https://www.leo-network.com/event/smugglers-inc-2-0-liberal-ks-964/
END:VEVENT
END:VCALENDAR
