BEGIN:VCALENDAR
VERSION:2.0
PRODID:-//LEO Network//Training Calendar//EN
BEGIN:VEVENT
UID:event-965@leo-network.com
DTSTAMP:20260424T041045Z
DTSTART:20230404T150000Z
DTEND:20230407T000000Z
SUMMARY:Smugglers, Inc.® 2.0
DESCRIPTION:Law Enforcement Training
Hosted by: Triple I Solutions

View event details:
https://www.leo-network.com/event/smugglers-inc-2-0-bernalillo-nm-965/
LOCATION:Bernalillo, NM
URL:https://www.leo-network.com/event/smugglers-inc-2-0-bernalillo-nm-965/
END:VEVENT
END:VCALENDAR
