BEGIN:VCALENDAR
VERSION:2.0
PRODID:-//LEO Network//Training Calendar//EN
BEGIN:VEVENT
UID:event-9760@leo-network.com
DTSTAMP:20260421T094846Z
DTSTART:20270601T150000Z
DTEND:20270602T000000Z
SUMMARY:Body Language for Law Enforcement
DESCRIPTION:Law Enforcement Training
Hosted by: ONEFACE LLC

View event details:
https://www.leo-network.com/event/body-language-for-law-enforcement-croydon-pa-9760/
LOCATION:Croydon, PA
URL:https://www.leo-network.com/event/body-language-for-law-enforcement-croydon-pa-9760/
END:VEVENT
END:VCALENDAR
