BEGIN:VCALENDAR
VERSION:2.0
PRODID:-//LEO Network//Training Calendar//EN
BEGIN:VEVENT
UID:event-9762@leo-network.com
DTSTAMP:20260422T102642Z
DTSTART:20261008T150000Z
DTEND:20261009T000000Z
SUMMARY:Body Language for Law Enforcement
DESCRIPTION:Law Enforcement Training
Hosted by: ONEFACE LLC

View event details:
https://www.leo-network.com/event/body-language-for-law-enforcement-fort-worth-tx-9762/
LOCATION:Fort Worth, TX
URL:https://www.leo-network.com/event/body-language-for-law-enforcement-fort-worth-tx-9762/
END:VEVENT
END:VCALENDAR
