BEGIN:VCALENDAR
VERSION:2.0
PRODID:-//LEO Network//Training Calendar//EN
BEGIN:VEVENT
UID:event-9765@leo-network.com
DTSTAMP:20260422T090303Z
DTSTART:20261009T150000Z
DTEND:20261010T000000Z
SUMMARY:Recognizing Pre-Attack Indicators
DESCRIPTION:Law Enforcement Training
Hosted by: ONEFACE LLC

View event details:
https://www.leo-network.com/event/recognizing-pre-attack-indicators-fort-worth-tx-9765/
LOCATION:Fort Worth, TX
URL:https://www.leo-network.com/event/recognizing-pre-attack-indicators-fort-worth-tx-9765/
END:VEVENT
END:VCALENDAR
