BEGIN:VCALENDAR
VERSION:2.0
PRODID:-//LEO Network//Training Calendar//EN
BEGIN:VEVENT
UID:event-9817@leo-network.com
DTSTAMP:20260422T102143Z
DTSTART:20260309T150000Z
DTEND:20260310T000000Z
SUMMARY:Advanced Search Seizure by Blue to Gold
DESCRIPTION:Law Enforcement Training
Hosted by: Blue to Gold Training

View event details:
https://www.leo-network.com/event/advanced-search-seizure-by-blue-to-gold-shakopee-mn-9817/
LOCATION:Shakopee, MN
URL:https://www.leo-network.com/event/advanced-search-seizure-by-blue-to-gold-shakopee-mn-9817/
END:VEVENT
END:VCALENDAR
