BEGIN:VCALENDAR
VERSION:2.0
PRODID:-//LEO Network//Training Calendar//EN
BEGIN:VEVENT
UID:event-9826@leo-network.com
DTSTAMP:20260422T102143Z
DTSTART:20260312T150000Z
DTEND:20260313T000000Z
SUMMARY:Advanced Criminal Investigations by Blue to Gold
DESCRIPTION:Law Enforcement Training
Hosted by: Blue to Gold Training

View event details:
https://www.leo-network.com/event/advanced-criminal-investigations-by-blue-to-gold-fort-worth-tx-9826/
LOCATION:Fort Worth, TX
URL:https://www.leo-network.com/event/advanced-criminal-investigations-by-blue-to-gold-fort-worth-tx-9826/
END:VEVENT
END:VCALENDAR
