BEGIN:VCALENDAR
VERSION:2.0
PRODID:-//LEO Network//Training Calendar//EN
BEGIN:VEVENT
UID:event-9835@leo-network.com
DTSTAMP:20260422T090216Z
DTSTART:20260326T150000Z
DTEND:20260327T000000Z
SUMMARY:Duty to Intervene by Blue to Gold
DESCRIPTION:Law Enforcement Training
Hosted by: Blue to Gold Training

View event details:
https://www.leo-network.com/event/duty-to-intervene-by-blue-to-gold-westfield-in-9835/
LOCATION:Westfield, IN
URL:https://www.leo-network.com/event/duty-to-intervene-by-blue-to-gold-westfield-in-9835/
END:VEVENT
END:VCALENDAR
