BEGIN:VCALENDAR
VERSION:2.0
PRODID:-//LEO Network//Training Calendar//EN
BEGIN:VEVENT
UID:event-9840@leo-network.com
DTSTAMP:20260422T102013Z
DTSTART:20260407T150000Z
DTEND:20260408T000000Z
SUMMARY:Advanced Search Seizure by Blue to Gold
DESCRIPTION:Law Enforcement Training
Hosted by: Blue to Gold Training

View event details:
https://www.leo-network.com/event/advanced-search-seizure-by-blue-to-gold-pelham-al-9840/
LOCATION:Pelham, AL
URL:https://www.leo-network.com/event/advanced-search-seizure-by-blue-to-gold-pelham-al-9840/
END:VEVENT
END:VCALENDAR
