BEGIN:VCALENDAR
VERSION:2.0
PRODID:-//LEO Network//Training Calendar//EN
BEGIN:VEVENT
UID:event-9842@leo-network.com
DTSTAMP:20260422T102220Z
DTSTART:20260409T150000Z
DTEND:20260410T000000Z
SUMMARY:Advanced Interdiction Case Law: Drugs on Wheels
DESCRIPTION:Law Enforcement Training
Hosted by: Blue to Gold Training

View event details:
https://www.leo-network.com/event/advanced-interdiction-case-law-drugs-on-wheels-pelham-al-9842/
LOCATION:Pelham, AL
URL:https://www.leo-network.com/event/advanced-interdiction-case-law-drugs-on-wheels-pelham-al-9842/
END:VEVENT
END:VCALENDAR
