BEGIN:VCALENDAR
VERSION:2.0
PRODID:-//LEO Network//Training Calendar//EN
BEGIN:VEVENT
UID:event-9850@leo-network.com
DTSTAMP:20260422T102145Z
DTSTART:20260414T150000Z
DTEND:20260415T000000Z
SUMMARY:Advanced Search Seizure by Blue to Gold
DESCRIPTION:Law Enforcement Training
Hosted by: Blue to Gold Training

View event details:
https://www.leo-network.com/event/advanced-search-seizure-by-blue-to-gold-santa-rosa-ca-9850/
LOCATION:Santa Rosa, CA
URL:https://www.leo-network.com/event/advanced-search-seizure-by-blue-to-gold-santa-rosa-ca-9850/
END:VEVENT
END:VCALENDAR
