BEGIN:VCALENDAR
VERSION:2.0
PRODID:-//LEO Network//Training Calendar//EN
BEGIN:VEVENT
UID:event-986@leo-network.com
DTSTAMP:20260422T172945Z
DTSTART:20230720T150000Z
DTEND:20230722T000000Z
SUMMARY:Smugglers, Inc.® 2.0
DESCRIPTION:Law Enforcement Training
Hosted by: Triple I Solutions

View event details:
https://www.leo-network.com/event/smugglers-inc-2-0-roland-ok-986/
LOCATION:Roland, OK
URL:https://www.leo-network.com/event/smugglers-inc-2-0-roland-ok-986/
END:VEVENT
END:VCALENDAR
