BEGIN:VCALENDAR
VERSION:2.0
PRODID:-//LEO Network//Training Calendar//EN
BEGIN:VEVENT
UID:event-9867@leo-network.com
DTSTAMP:20260422T090316Z
DTSTART:20260506T150000Z
DTEND:20260507T000000Z
SUMMARY:Advanced Interdiction Case Law: Drugs on Wheels
DESCRIPTION:Law Enforcement Training
Hosted by: Blue to Gold Training

View event details:
https://www.leo-network.com/event/advanced-interdiction-case-law-drugs-on-wheels-reynoldsburg-oh-9867/
LOCATION:Reynoldsburg, OH
URL:https://www.leo-network.com/event/advanced-interdiction-case-law-drugs-on-wheels-reynoldsburg-oh-9867/
END:VEVENT
END:VCALENDAR
