BEGIN:VCALENDAR
VERSION:2.0
PRODID:-//LEO Network//Training Calendar//EN
BEGIN:VEVENT
UID:event-9868@leo-network.com
DTSTAMP:20260422T090313Z
DTSTART:20260506T150000Z
DTEND:20260507T000000Z
SUMMARY:Advanced Search Seizure by Blue to Gold
DESCRIPTION:Law Enforcement Training
Hosted by: Blue to Gold Training

View event details:
https://www.leo-network.com/event/advanced-search-seizure-by-blue-to-gold-oceanside-ca-9868/
LOCATION:Oceanside, CA
URL:https://www.leo-network.com/event/advanced-search-seizure-by-blue-to-gold-oceanside-ca-9868/
END:VEVENT
END:VCALENDAR
