BEGIN:VCALENDAR
VERSION:2.0
PRODID:-//LEO Network//Training Calendar//EN
BEGIN:VEVENT
UID:event-9884@leo-network.com
DTSTAMP:20260422T090330Z
DTSTART:20260520T150000Z
DTEND:20260521T000000Z
SUMMARY:Duty to Intervene by Blue to Gold
DESCRIPTION:Law Enforcement Training
Hosted by: Blue to Gold Training

View event details:
https://www.leo-network.com/event/duty-to-intervene-by-blue-to-gold-saint-peters-mo-9884/
LOCATION:Saint Peters, MO
URL:https://www.leo-network.com/event/duty-to-intervene-by-blue-to-gold-saint-peters-mo-9884/
END:VEVENT
END:VCALENDAR
