BEGIN:VCALENDAR
VERSION:2.0
PRODID:-//LEO Network//Training Calendar//EN
BEGIN:VEVENT
UID:event-9894@leo-network.com
DTSTAMP:20260422T090436Z
DTSTART:20260601T150000Z
DTEND:20260602T000000Z
SUMMARY:Bulletproof Report Writing by Blue to Gold
DESCRIPTION:Law Enforcement Training
Hosted by: Blue to Gold Training

View event details:
https://www.leo-network.com/event/bulletproof-report-writing-by-blue-to-gold-torrington-wy-9894/
LOCATION:Torrington, WY
URL:https://www.leo-network.com/event/bulletproof-report-writing-by-blue-to-gold-torrington-wy-9894/
END:VEVENT
END:VCALENDAR
