BEGIN:VCALENDAR
VERSION:2.0
PRODID:-//LEO Network//Training Calendar//EN
BEGIN:VEVENT
UID:event-9896@leo-network.com
DTSTAMP:20260422T090315Z
DTSTART:20260603T150000Z
DTEND:20260604T000000Z
SUMMARY:Advanced Search Seizure by Blue to Gold
DESCRIPTION:Law Enforcement Training
Hosted by: Blue to Gold Training

View event details:
https://www.leo-network.com/event/advanced-search-seizure-by-blue-to-gold-el-dorado-ks-9896/
LOCATION:El Dorado, KS
URL:https://www.leo-network.com/event/advanced-search-seizure-by-blue-to-gold-el-dorado-ks-9896/
END:VEVENT
END:VCALENDAR
