BEGIN:VCALENDAR
VERSION:2.0
PRODID:-//LEO Network//Training Calendar//EN
BEGIN:VEVENT
UID:event-9898@leo-network.com
DTSTAMP:20260422T091212Z
DTSTART:20260605T150000Z
DTEND:20260606T000000Z
SUMMARY:Search Warrant Case Law
DESCRIPTION:Law Enforcement Training
Hosted by: Blue to Gold Training

View event details:
https://www.leo-network.com/event/search-warrant-case-law-el-dorado-ks-9898/
LOCATION:El Dorado, KS
URL:https://www.leo-network.com/event/search-warrant-case-law-el-dorado-ks-9898/
END:VEVENT
END:VCALENDAR
