BEGIN:VCALENDAR
VERSION:2.0
PRODID:-//LEO Network//Training Calendar//EN
BEGIN:VEVENT
UID:event-9899@leo-network.com
DTSTAMP:20260422T090218Z
DTSTART:20260608T150000Z
DTEND:20260609T000000Z
SUMMARY:Mastering Proactive Policing For Patrol by Blue to Gold
DESCRIPTION:Law Enforcement Training
Hosted by: Blue to Gold Training

View event details:
https://www.leo-network.com/event/mastering-proactive-policing-for-patrol-by-blue-to-gold-littleton-co-9899/
LOCATION:Littleton, CO
URL:https://www.leo-network.com/event/mastering-proactive-policing-for-patrol-by-blue-to-gold-littleton-co-9899/
END:VEVENT
END:VCALENDAR
