BEGIN:VCALENDAR
VERSION:2.0
PRODID:-//LEO Network//Training Calendar//EN
BEGIN:VEVENT
UID:event-9974@leo-network.com
DTSTAMP:20260422T090315Z
DTSTART:20260929T150000Z
DTEND:20260930T000000Z
SUMMARY:Bulletproof Report Writing by Blue to Gold
DESCRIPTION:Law Enforcement Training
Hosted by: Blue to Gold Training

View event details:
https://www.leo-network.com/event/bulletproof-report-writing-by-blue-to-gold-wayne-nj-9974/
LOCATION:Wayne, NJ
URL:https://www.leo-network.com/event/bulletproof-report-writing-by-blue-to-gold-wayne-nj-9974/
END:VEVENT
END:VCALENDAR
