BEGIN:VCALENDAR
VERSION:2.0
PRODID:-//LEO Network//Training Calendar//EN
BEGIN:VEVENT
UID:event-9984@leo-network.com
DTSTAMP:20260422T090440Z
DTSTART:20261119T160000Z
DTEND:20261120T010000Z
SUMMARY:Advanced Criminal Investigations by Blue to Gold
DESCRIPTION:Law Enforcement Training
Hosted by: Blue to Gold Training

View event details:
https://www.leo-network.com/event/advanced-criminal-investigations-by-blue-to-gold-pasco-wa-9984/
LOCATION:Pasco, WA
URL:https://www.leo-network.com/event/advanced-criminal-investigations-by-blue-to-gold-pasco-wa-9984/
END:VEVENT
END:VCALENDAR
